BEGIN:VCALENDAR
VERSION:2.0
PRODID:-//Accokeek Volunteer Fire Department - ECPv6.15.20//NONSGML v1.0//EN
CALSCALE:GREGORIAN
METHOD:PUBLISH
X-ORIGINAL-URL:https://accokeekvfd.org
X-WR-CALDESC:Events for Accokeek Volunteer Fire Department
REFRESH-INTERVAL;VALUE=DURATION:PT1H
X-Robots-Tag:noindex
X-PUBLISHED-TTL:PT1H
BEGIN:VTIMEZONE
TZID:America/New_York
BEGIN:DAYLIGHT
TZOFFSETFROM:-0500
TZOFFSETTO:-0400
TZNAME:EDT
DTSTART:20250309T070000
END:DAYLIGHT
BEGIN:STANDARD
TZOFFSETFROM:-0400
TZOFFSETTO:-0500
TZNAME:EST
DTSTART:20251102T060000
END:STANDARD
BEGIN:DAYLIGHT
TZOFFSETFROM:-0500
TZOFFSETTO:-0400
TZNAME:EDT
DTSTART:20260308T070000
END:DAYLIGHT
BEGIN:STANDARD
TZOFFSETFROM:-0400
TZOFFSETTO:-0500
TZNAME:EST
DTSTART:20261101T060000
END:STANDARD
BEGIN:DAYLIGHT
TZOFFSETFROM:-0500
TZOFFSETTO:-0400
TZNAME:EDT
DTSTART:20270314T070000
END:DAYLIGHT
BEGIN:STANDARD
TZOFFSETFROM:-0400
TZOFFSETTO:-0500
TZNAME:EST
DTSTART:20271107T060000
END:STANDARD
END:VTIMEZONE
BEGIN:VEVENT
DTSTART;TZID=America/New_York:20260428T090000
DTEND;TZID=America/New_York:20260428T140000
DTSTAMP:20260424T040713
CREATED:20231207T182440Z
LAST-MODIFIED:20240604T183743Z
UID:10003285-1777366800-1777384800@accokeekvfd.org
SUMMARY:Senior Bingo
DESCRIPTION:Begin selling at 9:00 am \nGames run from 10:00 am to 2:15 pm\nEvery Tuesday. When you come to Bingo\, PLEASE Bring Your Coins with You.
URL:https://accokeekvfd.org/event/senior-bingo-2/2026-04-28/
LOCATION:Accokeek Training and Activities Center\, 16111 Livingston Road\, Accokeek\, MD\, 20607\, United States
CATEGORIES:Bingo,Senior
ATTACH;FMTTYPE=image/jpeg:https://accokeekvfd.org/wp-content/uploads/2022/06/AccokeekVFD_Bingo_FeatureImage-1024x768-1.jpg
ORGANIZER;CN="Accokeek Volunteer Fire Department":MAILTO:accokeekvfd@gmail.com
END:VEVENT
BEGIN:VEVENT
DTSTART;TZID=America/New_York:20260428T190000
DTEND;TZID=America/New_York:20260428T200000
DTSTAMP:20260424T040713
CREATED:20240213T152930Z
LAST-MODIFIED:20240213T152930Z
UID:10003076-1777402800-1777406400@accokeekvfd.org
SUMMARY:Business Meeting (Members Only)
DESCRIPTION:Monthly business meeting for AVFD members.
URL:https://accokeekvfd.org/event/business-meeting-members-only/2026-04-28/
LOCATION:Accokeek Training and Activities Center\, 16111 Livingston Road\, Accokeek\, MD\, 20607\, United States
CATEGORIES:Members
ORGANIZER;CN="Accokeek Volunteer Fire Department":MAILTO:accokeekvfd@gmail.com
END:VEVENT
BEGIN:VEVENT
DTSTART;TZID=America/New_York:20260430T170000
DTEND;TZID=America/New_York:20260430T210000
DTSTAMP:20260424T040713
CREATED:20240213T152036Z
LAST-MODIFIED:20240213T152646Z
UID:10002938-1777568400-1777582800@accokeekvfd.org
SUMMARY:BINGO
DESCRIPTION:Regular Thursday BINGO\nDoors open at 5:00 PM and the Game starts at 7:00 PM SHARP!\nAVFD has brought back PAPER ONLY\, Old School BINGO. Doors open at 5:00 PM and Game starts at 7:00 PM SHARP! Face Masks are optional. Pull tabs and limited refreshments available. All major credit cards and debit cards are honored.
URL:https://accokeekvfd.org/event/bingo-2/2026-04-30/
LOCATION:Accokeek Training and Activities Center\, 16111 Livingston Road\, Accokeek\, MD\, 20607\, United States
CATEGORIES:Bingo,Regular
ATTACH;FMTTYPE=image/jpeg:https://accokeekvfd.org/wp-content/uploads/2022/06/AccokeekVFD_Bingo_FeatureImage-1024x768-1.jpg
ORGANIZER;CN="Accokeek Volunteer Fire Department":MAILTO:accokeekvfd@gmail.com
END:VEVENT
BEGIN:VEVENT
DTSTART;TZID=America/New_York:20260505T090000
DTEND;TZID=America/New_York:20260505T140000
DTSTAMP:20260424T040713
CREATED:20231207T182440Z
LAST-MODIFIED:20240604T183743Z
UID:10003286-1777971600-1777989600@accokeekvfd.org
SUMMARY:Senior Bingo
DESCRIPTION:Begin selling at 9:00 am \nGames run from 10:00 am to 2:15 pm\nEvery Tuesday. When you come to Bingo\, PLEASE Bring Your Coins with You.
URL:https://accokeekvfd.org/event/senior-bingo-2/2026-05-05/
LOCATION:Accokeek Training and Activities Center\, 16111 Livingston Road\, Accokeek\, MD\, 20607\, United States
CATEGORIES:Bingo,Senior
ATTACH;FMTTYPE=image/jpeg:https://accokeekvfd.org/wp-content/uploads/2022/06/AccokeekVFD_Bingo_FeatureImage-1024x768-1.jpg
ORGANIZER;CN="Accokeek Volunteer Fire Department":MAILTO:accokeekvfd@gmail.com
END:VEVENT
BEGIN:VEVENT
DTSTART;TZID=America/New_York:20260507T170000
DTEND;TZID=America/New_York:20260507T210000
DTSTAMP:20260424T040713
CREATED:20221114T174205Z
LAST-MODIFIED:20240213T152539Z
UID:10002247-1778173200-1778187600@accokeekvfd.org
SUMMARY:MEGA BINGO
DESCRIPTION:Doors open at 5:00 PM and Game starts at 7:00 PM SHARP!
URL:https://accokeekvfd.org/event/mega-bingo/2026-05-07/
LOCATION:Accokeek Training and Activities Center\, 16111 Livingston Road\, Accokeek\, MD\, 20607\, United States
CATEGORIES:Bingo,Mega
ATTACH;FMTTYPE=image/jpeg:https://accokeekvfd.org/wp-content/uploads/2022/06/AccokeekVFD_Bingo_FeatureImage-1024x768-1.jpg
ORGANIZER;CN="Accokeek Volunteer Fire Department":MAILTO:accokeekvfd@gmail.com
END:VEVENT
BEGIN:VEVENT
DTSTART;TZID=America/New_York:20260512T090000
DTEND;TZID=America/New_York:20260512T140000
DTSTAMP:20260424T040713
CREATED:20231207T182440Z
LAST-MODIFIED:20240604T183743Z
UID:10003287-1778576400-1778594400@accokeekvfd.org
SUMMARY:Senior Bingo
DESCRIPTION:Begin selling at 9:00 am \nGames run from 10:00 am to 2:15 pm\nEvery Tuesday. When you come to Bingo\, PLEASE Bring Your Coins with You.
URL:https://accokeekvfd.org/event/senior-bingo-2/2026-05-12/
LOCATION:Accokeek Training and Activities Center\, 16111 Livingston Road\, Accokeek\, MD\, 20607\, United States
CATEGORIES:Bingo,Senior
ATTACH;FMTTYPE=image/jpeg:https://accokeekvfd.org/wp-content/uploads/2022/06/AccokeekVFD_Bingo_FeatureImage-1024x768-1.jpg
ORGANIZER;CN="Accokeek Volunteer Fire Department":MAILTO:accokeekvfd@gmail.com
END:VEVENT
BEGIN:VEVENT
DTSTART;TZID=America/New_York:20260514T170000
DTEND;TZID=America/New_York:20260514T210000
DTSTAMP:20260424T040713
CREATED:20240213T152036Z
LAST-MODIFIED:20240213T152646Z
UID:10002939-1778778000-1778792400@accokeekvfd.org
SUMMARY:BINGO
DESCRIPTION:Regular Thursday BINGO\nDoors open at 5:00 PM and the Game starts at 7:00 PM SHARP!\nAVFD has brought back PAPER ONLY\, Old School BINGO. Doors open at 5:00 PM and Game starts at 7:00 PM SHARP! Face Masks are optional. Pull tabs and limited refreshments available. All major credit cards and debit cards are honored.
URL:https://accokeekvfd.org/event/bingo-2/2026-05-14/
LOCATION:Accokeek Training and Activities Center\, 16111 Livingston Road\, Accokeek\, MD\, 20607\, United States
CATEGORIES:Bingo,Regular
ATTACH;FMTTYPE=image/jpeg:https://accokeekvfd.org/wp-content/uploads/2022/06/AccokeekVFD_Bingo_FeatureImage-1024x768-1.jpg
ORGANIZER;CN="Accokeek Volunteer Fire Department":MAILTO:accokeekvfd@gmail.com
END:VEVENT
BEGIN:VEVENT
DTSTART;TZID=America/New_York:20260519T090000
DTEND;TZID=America/New_York:20260519T140000
DTSTAMP:20260424T040713
CREATED:20231207T182440Z
LAST-MODIFIED:20240604T183743Z
UID:10003288-1779181200-1779199200@accokeekvfd.org
SUMMARY:Senior Bingo
DESCRIPTION:Begin selling at 9:00 am \nGames run from 10:00 am to 2:15 pm\nEvery Tuesday. When you come to Bingo\, PLEASE Bring Your Coins with You.
URL:https://accokeekvfd.org/event/senior-bingo-2/2026-05-19/
LOCATION:Accokeek Training and Activities Center\, 16111 Livingston Road\, Accokeek\, MD\, 20607\, United States
CATEGORIES:Bingo,Senior
ATTACH;FMTTYPE=image/jpeg:https://accokeekvfd.org/wp-content/uploads/2022/06/AccokeekVFD_Bingo_FeatureImage-1024x768-1.jpg
ORGANIZER;CN="Accokeek Volunteer Fire Department":MAILTO:accokeekvfd@gmail.com
END:VEVENT
BEGIN:VEVENT
DTSTART;TZID=America/New_York:20260521T170000
DTEND;TZID=America/New_York:20260521T210000
DTSTAMP:20260424T040713
CREATED:20240213T152036Z
LAST-MODIFIED:20240213T152646Z
UID:10002940-1779382800-1779397200@accokeekvfd.org
SUMMARY:BINGO
DESCRIPTION:Regular Thursday BINGO\nDoors open at 5:00 PM and the Game starts at 7:00 PM SHARP!\nAVFD has brought back PAPER ONLY\, Old School BINGO. Doors open at 5:00 PM and Game starts at 7:00 PM SHARP! Face Masks are optional. Pull tabs and limited refreshments available. All major credit cards and debit cards are honored.
URL:https://accokeekvfd.org/event/bingo-2/2026-05-21/
LOCATION:Accokeek Training and Activities Center\, 16111 Livingston Road\, Accokeek\, MD\, 20607\, United States
CATEGORIES:Bingo,Regular
ATTACH;FMTTYPE=image/jpeg:https://accokeekvfd.org/wp-content/uploads/2022/06/AccokeekVFD_Bingo_FeatureImage-1024x768-1.jpg
ORGANIZER;CN="Accokeek Volunteer Fire Department":MAILTO:accokeekvfd@gmail.com
END:VEVENT
BEGIN:VEVENT
DTSTART;TZID=America/New_York:20260526T090000
DTEND;TZID=America/New_York:20260526T140000
DTSTAMP:20260424T040713
CREATED:20231207T182440Z
LAST-MODIFIED:20240604T183743Z
UID:10003289-1779786000-1779804000@accokeekvfd.org
SUMMARY:Senior Bingo
DESCRIPTION:Begin selling at 9:00 am \nGames run from 10:00 am to 2:15 pm\nEvery Tuesday. When you come to Bingo\, PLEASE Bring Your Coins with You.
URL:https://accokeekvfd.org/event/senior-bingo-2/2026-05-26/
LOCATION:Accokeek Training and Activities Center\, 16111 Livingston Road\, Accokeek\, MD\, 20607\, United States
CATEGORIES:Bingo,Senior
ATTACH;FMTTYPE=image/jpeg:https://accokeekvfd.org/wp-content/uploads/2022/06/AccokeekVFD_Bingo_FeatureImage-1024x768-1.jpg
ORGANIZER;CN="Accokeek Volunteer Fire Department":MAILTO:accokeekvfd@gmail.com
END:VEVENT
BEGIN:VEVENT
DTSTART;TZID=America/New_York:20260526T190000
DTEND;TZID=America/New_York:20260526T200000
DTSTAMP:20260424T040713
CREATED:20240213T152930Z
LAST-MODIFIED:20240213T152930Z
UID:10003077-1779822000-1779825600@accokeekvfd.org
SUMMARY:Business Meeting (Members Only)
DESCRIPTION:Monthly business meeting for AVFD members.
URL:https://accokeekvfd.org/event/business-meeting-members-only/2026-05-26/
LOCATION:Accokeek Training and Activities Center\, 16111 Livingston Road\, Accokeek\, MD\, 20607\, United States
CATEGORIES:Members
ORGANIZER;CN="Accokeek Volunteer Fire Department":MAILTO:accokeekvfd@gmail.com
END:VEVENT
BEGIN:VEVENT
DTSTART;TZID=America/New_York:20260528T170000
DTEND;TZID=America/New_York:20260528T210000
DTSTAMP:20260424T040713
CREATED:20240213T152036Z
LAST-MODIFIED:20240213T152646Z
UID:10002941-1779987600-1780002000@accokeekvfd.org
SUMMARY:BINGO
DESCRIPTION:Regular Thursday BINGO\nDoors open at 5:00 PM and the Game starts at 7:00 PM SHARP!\nAVFD has brought back PAPER ONLY\, Old School BINGO. Doors open at 5:00 PM and Game starts at 7:00 PM SHARP! Face Masks are optional. Pull tabs and limited refreshments available. All major credit cards and debit cards are honored.
URL:https://accokeekvfd.org/event/bingo-2/2026-05-28/
LOCATION:Accokeek Training and Activities Center\, 16111 Livingston Road\, Accokeek\, MD\, 20607\, United States
CATEGORIES:Bingo,Regular
ATTACH;FMTTYPE=image/jpeg:https://accokeekvfd.org/wp-content/uploads/2022/06/AccokeekVFD_Bingo_FeatureImage-1024x768-1.jpg
ORGANIZER;CN="Accokeek Volunteer Fire Department":MAILTO:accokeekvfd@gmail.com
END:VEVENT
BEGIN:VEVENT
DTSTART;TZID=America/New_York:20260602T090000
DTEND;TZID=America/New_York:20260602T140000
DTSTAMP:20260424T040713
CREATED:20231207T182440Z
LAST-MODIFIED:20240604T183743Z
UID:10003290-1780390800-1780408800@accokeekvfd.org
SUMMARY:Senior Bingo
DESCRIPTION:Begin selling at 9:00 am \nGames run from 10:00 am to 2:15 pm\nEvery Tuesday. When you come to Bingo\, PLEASE Bring Your Coins with You.
URL:https://accokeekvfd.org/event/senior-bingo-2/2026-06-02/
LOCATION:Accokeek Training and Activities Center\, 16111 Livingston Road\, Accokeek\, MD\, 20607\, United States
CATEGORIES:Bingo,Senior
ATTACH;FMTTYPE=image/jpeg:https://accokeekvfd.org/wp-content/uploads/2022/06/AccokeekVFD_Bingo_FeatureImage-1024x768-1.jpg
ORGANIZER;CN="Accokeek Volunteer Fire Department":MAILTO:accokeekvfd@gmail.com
END:VEVENT
BEGIN:VEVENT
DTSTART;TZID=America/New_York:20260604T170000
DTEND;TZID=America/New_York:20260604T210000
DTSTAMP:20260424T040713
CREATED:20221114T174205Z
LAST-MODIFIED:20240213T152539Z
UID:10002248-1780592400-1780606800@accokeekvfd.org
SUMMARY:MEGA BINGO
DESCRIPTION:Doors open at 5:00 PM and Game starts at 7:00 PM SHARP!
URL:https://accokeekvfd.org/event/mega-bingo/2026-06-04/
LOCATION:Accokeek Training and Activities Center\, 16111 Livingston Road\, Accokeek\, MD\, 20607\, United States
CATEGORIES:Bingo,Mega
ATTACH;FMTTYPE=image/jpeg:https://accokeekvfd.org/wp-content/uploads/2022/06/AccokeekVFD_Bingo_FeatureImage-1024x768-1.jpg
ORGANIZER;CN="Accokeek Volunteer Fire Department":MAILTO:accokeekvfd@gmail.com
END:VEVENT
BEGIN:VEVENT
DTSTART;TZID=America/New_York:20260609T090000
DTEND;TZID=America/New_York:20260609T140000
DTSTAMP:20260424T040713
CREATED:20231207T182440Z
LAST-MODIFIED:20240604T183743Z
UID:10003291-1780995600-1781013600@accokeekvfd.org
SUMMARY:Senior Bingo
DESCRIPTION:Begin selling at 9:00 am \nGames run from 10:00 am to 2:15 pm\nEvery Tuesday. When you come to Bingo\, PLEASE Bring Your Coins with You.
URL:https://accokeekvfd.org/event/senior-bingo-2/2026-06-09/
LOCATION:Accokeek Training and Activities Center\, 16111 Livingston Road\, Accokeek\, MD\, 20607\, United States
CATEGORIES:Bingo,Senior
ATTACH;FMTTYPE=image/jpeg:https://accokeekvfd.org/wp-content/uploads/2022/06/AccokeekVFD_Bingo_FeatureImage-1024x768-1.jpg
ORGANIZER;CN="Accokeek Volunteer Fire Department":MAILTO:accokeekvfd@gmail.com
END:VEVENT
BEGIN:VEVENT
DTSTART;TZID=America/New_York:20260611T170000
DTEND;TZID=America/New_York:20260611T210000
DTSTAMP:20260424T040713
CREATED:20240213T152036Z
LAST-MODIFIED:20240213T152646Z
UID:10002942-1781197200-1781211600@accokeekvfd.org
SUMMARY:BINGO
DESCRIPTION:Regular Thursday BINGO\nDoors open at 5:00 PM and the Game starts at 7:00 PM SHARP!\nAVFD has brought back PAPER ONLY\, Old School BINGO. Doors open at 5:00 PM and Game starts at 7:00 PM SHARP! Face Masks are optional. Pull tabs and limited refreshments available. All major credit cards and debit cards are honored.
URL:https://accokeekvfd.org/event/bingo-2/2026-06-11/
LOCATION:Accokeek Training and Activities Center\, 16111 Livingston Road\, Accokeek\, MD\, 20607\, United States
CATEGORIES:Bingo,Regular
ATTACH;FMTTYPE=image/jpeg:https://accokeekvfd.org/wp-content/uploads/2022/06/AccokeekVFD_Bingo_FeatureImage-1024x768-1.jpg
ORGANIZER;CN="Accokeek Volunteer Fire Department":MAILTO:accokeekvfd@gmail.com
END:VEVENT
BEGIN:VEVENT
DTSTART;TZID=America/New_York:20260616T090000
DTEND;TZID=America/New_York:20260616T140000
DTSTAMP:20260424T040713
CREATED:20231207T182440Z
LAST-MODIFIED:20240604T183743Z
UID:10003292-1781600400-1781618400@accokeekvfd.org
SUMMARY:Senior Bingo
DESCRIPTION:Begin selling at 9:00 am \nGames run from 10:00 am to 2:15 pm\nEvery Tuesday. When you come to Bingo\, PLEASE Bring Your Coins with You.
URL:https://accokeekvfd.org/event/senior-bingo-2/2026-06-16/
LOCATION:Accokeek Training and Activities Center\, 16111 Livingston Road\, Accokeek\, MD\, 20607\, United States
CATEGORIES:Bingo,Senior
ATTACH;FMTTYPE=image/jpeg:https://accokeekvfd.org/wp-content/uploads/2022/06/AccokeekVFD_Bingo_FeatureImage-1024x768-1.jpg
ORGANIZER;CN="Accokeek Volunteer Fire Department":MAILTO:accokeekvfd@gmail.com
END:VEVENT
BEGIN:VEVENT
DTSTART;TZID=America/New_York:20260618T170000
DTEND;TZID=America/New_York:20260618T210000
DTSTAMP:20260424T040713
CREATED:20240213T152036Z
LAST-MODIFIED:20240213T152646Z
UID:10002943-1781802000-1781816400@accokeekvfd.org
SUMMARY:BINGO
DESCRIPTION:Regular Thursday BINGO\nDoors open at 5:00 PM and the Game starts at 7:00 PM SHARP!\nAVFD has brought back PAPER ONLY\, Old School BINGO. Doors open at 5:00 PM and Game starts at 7:00 PM SHARP! Face Masks are optional. Pull tabs and limited refreshments available. All major credit cards and debit cards are honored.
URL:https://accokeekvfd.org/event/bingo-2/2026-06-18/
LOCATION:Accokeek Training and Activities Center\, 16111 Livingston Road\, Accokeek\, MD\, 20607\, United States
CATEGORIES:Bingo,Regular
ATTACH;FMTTYPE=image/jpeg:https://accokeekvfd.org/wp-content/uploads/2022/06/AccokeekVFD_Bingo_FeatureImage-1024x768-1.jpg
ORGANIZER;CN="Accokeek Volunteer Fire Department":MAILTO:accokeekvfd@gmail.com
END:VEVENT
BEGIN:VEVENT
DTSTART;TZID=America/New_York:20260623T090000
DTEND;TZID=America/New_York:20260623T140000
DTSTAMP:20260424T040713
CREATED:20231207T182440Z
LAST-MODIFIED:20240604T183743Z
UID:10003293-1782205200-1782223200@accokeekvfd.org
SUMMARY:Senior Bingo
DESCRIPTION:Begin selling at 9:00 am \nGames run from 10:00 am to 2:15 pm\nEvery Tuesday. When you come to Bingo\, PLEASE Bring Your Coins with You.
URL:https://accokeekvfd.org/event/senior-bingo-2/2026-06-23/
LOCATION:Accokeek Training and Activities Center\, 16111 Livingston Road\, Accokeek\, MD\, 20607\, United States
CATEGORIES:Bingo,Senior
ATTACH;FMTTYPE=image/jpeg:https://accokeekvfd.org/wp-content/uploads/2022/06/AccokeekVFD_Bingo_FeatureImage-1024x768-1.jpg
ORGANIZER;CN="Accokeek Volunteer Fire Department":MAILTO:accokeekvfd@gmail.com
END:VEVENT
BEGIN:VEVENT
DTSTART;TZID=America/New_York:20260625T170000
DTEND;TZID=America/New_York:20260625T210000
DTSTAMP:20260424T040713
CREATED:20240213T152036Z
LAST-MODIFIED:20240213T152646Z
UID:10002944-1782406800-1782421200@accokeekvfd.org
SUMMARY:BINGO
DESCRIPTION:Regular Thursday BINGO\nDoors open at 5:00 PM and the Game starts at 7:00 PM SHARP!\nAVFD has brought back PAPER ONLY\, Old School BINGO. Doors open at 5:00 PM and Game starts at 7:00 PM SHARP! Face Masks are optional. Pull tabs and limited refreshments available. All major credit cards and debit cards are honored.
URL:https://accokeekvfd.org/event/bingo-2/2026-06-25/
LOCATION:Accokeek Training and Activities Center\, 16111 Livingston Road\, Accokeek\, MD\, 20607\, United States
CATEGORIES:Bingo,Regular
ATTACH;FMTTYPE=image/jpeg:https://accokeekvfd.org/wp-content/uploads/2022/06/AccokeekVFD_Bingo_FeatureImage-1024x768-1.jpg
ORGANIZER;CN="Accokeek Volunteer Fire Department":MAILTO:accokeekvfd@gmail.com
END:VEVENT
BEGIN:VEVENT
DTSTART;TZID=America/New_York:20260630T090000
DTEND;TZID=America/New_York:20260630T140000
DTSTAMP:20260424T040713
CREATED:20231207T182440Z
LAST-MODIFIED:20240604T183743Z
UID:10003294-1782810000-1782828000@accokeekvfd.org
SUMMARY:Senior Bingo
DESCRIPTION:Begin selling at 9:00 am \nGames run from 10:00 am to 2:15 pm\nEvery Tuesday. When you come to Bingo\, PLEASE Bring Your Coins with You.
URL:https://accokeekvfd.org/event/senior-bingo-2/2026-06-30/
LOCATION:Accokeek Training and Activities Center\, 16111 Livingston Road\, Accokeek\, MD\, 20607\, United States
CATEGORIES:Bingo,Senior
ATTACH;FMTTYPE=image/jpeg:https://accokeekvfd.org/wp-content/uploads/2022/06/AccokeekVFD_Bingo_FeatureImage-1024x768-1.jpg
ORGANIZER;CN="Accokeek Volunteer Fire Department":MAILTO:accokeekvfd@gmail.com
END:VEVENT
BEGIN:VEVENT
DTSTART;TZID=America/New_York:20260630T190000
DTEND;TZID=America/New_York:20260630T200000
DTSTAMP:20260424T040713
CREATED:20240213T152930Z
LAST-MODIFIED:20240213T152930Z
UID:10003078-1782846000-1782849600@accokeekvfd.org
SUMMARY:Business Meeting (Members Only)
DESCRIPTION:Monthly business meeting for AVFD members.
URL:https://accokeekvfd.org/event/business-meeting-members-only/2026-06-30/
LOCATION:Accokeek Training and Activities Center\, 16111 Livingston Road\, Accokeek\, MD\, 20607\, United States
CATEGORIES:Members
ORGANIZER;CN="Accokeek Volunteer Fire Department":MAILTO:accokeekvfd@gmail.com
END:VEVENT
BEGIN:VEVENT
DTSTART;TZID=America/New_York:20260702T170000
DTEND;TZID=America/New_York:20260702T210000
DTSTAMP:20260424T040713
CREATED:20221114T174205Z
LAST-MODIFIED:20240213T152539Z
UID:10002249-1783011600-1783026000@accokeekvfd.org
SUMMARY:MEGA BINGO
DESCRIPTION:Doors open at 5:00 PM and Game starts at 7:00 PM SHARP!
URL:https://accokeekvfd.org/event/mega-bingo/2026-07-02/
LOCATION:Accokeek Training and Activities Center\, 16111 Livingston Road\, Accokeek\, MD\, 20607\, United States
CATEGORIES:Bingo,Mega
ATTACH;FMTTYPE=image/jpeg:https://accokeekvfd.org/wp-content/uploads/2022/06/AccokeekVFD_Bingo_FeatureImage-1024x768-1.jpg
ORGANIZER;CN="Accokeek Volunteer Fire Department":MAILTO:accokeekvfd@gmail.com
END:VEVENT
BEGIN:VEVENT
DTSTART;TZID=America/New_York:20260707T090000
DTEND;TZID=America/New_York:20260707T140000
DTSTAMP:20260424T040713
CREATED:20231207T182440Z
LAST-MODIFIED:20240604T183743Z
UID:10003295-1783414800-1783432800@accokeekvfd.org
SUMMARY:Senior Bingo
DESCRIPTION:Begin selling at 9:00 am \nGames run from 10:00 am to 2:15 pm\nEvery Tuesday. When you come to Bingo\, PLEASE Bring Your Coins with You.
URL:https://accokeekvfd.org/event/senior-bingo-2/2026-07-07/
LOCATION:Accokeek Training and Activities Center\, 16111 Livingston Road\, Accokeek\, MD\, 20607\, United States
CATEGORIES:Bingo,Senior
ATTACH;FMTTYPE=image/jpeg:https://accokeekvfd.org/wp-content/uploads/2022/06/AccokeekVFD_Bingo_FeatureImage-1024x768-1.jpg
ORGANIZER;CN="Accokeek Volunteer Fire Department":MAILTO:accokeekvfd@gmail.com
END:VEVENT
BEGIN:VEVENT
DTSTART;TZID=America/New_York:20260709T170000
DTEND;TZID=America/New_York:20260709T210000
DTSTAMP:20260424T040713
CREATED:20240213T152036Z
LAST-MODIFIED:20240213T152646Z
UID:10002945-1783616400-1783630800@accokeekvfd.org
SUMMARY:BINGO
DESCRIPTION:Regular Thursday BINGO\nDoors open at 5:00 PM and the Game starts at 7:00 PM SHARP!\nAVFD has brought back PAPER ONLY\, Old School BINGO. Doors open at 5:00 PM and Game starts at 7:00 PM SHARP! Face Masks are optional. Pull tabs and limited refreshments available. All major credit cards and debit cards are honored.
URL:https://accokeekvfd.org/event/bingo-2/2026-07-09/
LOCATION:Accokeek Training and Activities Center\, 16111 Livingston Road\, Accokeek\, MD\, 20607\, United States
CATEGORIES:Bingo,Regular
ATTACH;FMTTYPE=image/jpeg:https://accokeekvfd.org/wp-content/uploads/2022/06/AccokeekVFD_Bingo_FeatureImage-1024x768-1.jpg
ORGANIZER;CN="Accokeek Volunteer Fire Department":MAILTO:accokeekvfd@gmail.com
END:VEVENT
BEGIN:VEVENT
DTSTART;TZID=America/New_York:20260714T090000
DTEND;TZID=America/New_York:20260714T140000
DTSTAMP:20260424T040713
CREATED:20231207T182440Z
LAST-MODIFIED:20240604T183743Z
UID:10003296-1784019600-1784037600@accokeekvfd.org
SUMMARY:Senior Bingo
DESCRIPTION:Begin selling at 9:00 am \nGames run from 10:00 am to 2:15 pm\nEvery Tuesday. When you come to Bingo\, PLEASE Bring Your Coins with You.
URL:https://accokeekvfd.org/event/senior-bingo-2/2026-07-14/
LOCATION:Accokeek Training and Activities Center\, 16111 Livingston Road\, Accokeek\, MD\, 20607\, United States
CATEGORIES:Bingo,Senior
ATTACH;FMTTYPE=image/jpeg:https://accokeekvfd.org/wp-content/uploads/2022/06/AccokeekVFD_Bingo_FeatureImage-1024x768-1.jpg
ORGANIZER;CN="Accokeek Volunteer Fire Department":MAILTO:accokeekvfd@gmail.com
END:VEVENT
BEGIN:VEVENT
DTSTART;TZID=America/New_York:20260716T170000
DTEND;TZID=America/New_York:20260716T210000
DTSTAMP:20260424T040713
CREATED:20240213T152036Z
LAST-MODIFIED:20240213T152646Z
UID:10002946-1784221200-1784235600@accokeekvfd.org
SUMMARY:BINGO
DESCRIPTION:Regular Thursday BINGO\nDoors open at 5:00 PM and the Game starts at 7:00 PM SHARP!\nAVFD has brought back PAPER ONLY\, Old School BINGO. Doors open at 5:00 PM and Game starts at 7:00 PM SHARP! Face Masks are optional. Pull tabs and limited refreshments available. All major credit cards and debit cards are honored.
URL:https://accokeekvfd.org/event/bingo-2/2026-07-16/
LOCATION:Accokeek Training and Activities Center\, 16111 Livingston Road\, Accokeek\, MD\, 20607\, United States
CATEGORIES:Bingo,Regular
ATTACH;FMTTYPE=image/jpeg:https://accokeekvfd.org/wp-content/uploads/2022/06/AccokeekVFD_Bingo_FeatureImage-1024x768-1.jpg
ORGANIZER;CN="Accokeek Volunteer Fire Department":MAILTO:accokeekvfd@gmail.com
END:VEVENT
BEGIN:VEVENT
DTSTART;TZID=America/New_York:20260721T090000
DTEND;TZID=America/New_York:20260721T140000
DTSTAMP:20260424T040713
CREATED:20231207T182440Z
LAST-MODIFIED:20240604T183743Z
UID:10003297-1784624400-1784642400@accokeekvfd.org
SUMMARY:Senior Bingo
DESCRIPTION:Begin selling at 9:00 am \nGames run from 10:00 am to 2:15 pm\nEvery Tuesday. When you come to Bingo\, PLEASE Bring Your Coins with You.
URL:https://accokeekvfd.org/event/senior-bingo-2/2026-07-21/
LOCATION:Accokeek Training and Activities Center\, 16111 Livingston Road\, Accokeek\, MD\, 20607\, United States
CATEGORIES:Bingo,Senior
ATTACH;FMTTYPE=image/jpeg:https://accokeekvfd.org/wp-content/uploads/2022/06/AccokeekVFD_Bingo_FeatureImage-1024x768-1.jpg
ORGANIZER;CN="Accokeek Volunteer Fire Department":MAILTO:accokeekvfd@gmail.com
END:VEVENT
BEGIN:VEVENT
DTSTART;TZID=America/New_York:20260723T170000
DTEND;TZID=America/New_York:20260723T210000
DTSTAMP:20260424T040713
CREATED:20240213T152036Z
LAST-MODIFIED:20240213T152646Z
UID:10002947-1784826000-1784840400@accokeekvfd.org
SUMMARY:BINGO
DESCRIPTION:Regular Thursday BINGO\nDoors open at 5:00 PM and the Game starts at 7:00 PM SHARP!\nAVFD has brought back PAPER ONLY\, Old School BINGO. Doors open at 5:00 PM and Game starts at 7:00 PM SHARP! Face Masks are optional. Pull tabs and limited refreshments available. All major credit cards and debit cards are honored.
URL:https://accokeekvfd.org/event/bingo-2/2026-07-23/
LOCATION:Accokeek Training and Activities Center\, 16111 Livingston Road\, Accokeek\, MD\, 20607\, United States
CATEGORIES:Bingo,Regular
ATTACH;FMTTYPE=image/jpeg:https://accokeekvfd.org/wp-content/uploads/2022/06/AccokeekVFD_Bingo_FeatureImage-1024x768-1.jpg
ORGANIZER;CN="Accokeek Volunteer Fire Department":MAILTO:accokeekvfd@gmail.com
END:VEVENT
BEGIN:VEVENT
DTSTART;TZID=America/New_York:20260728T090000
DTEND;TZID=America/New_York:20260728T140000
DTSTAMP:20260424T040713
CREATED:20231207T182440Z
LAST-MODIFIED:20240604T183743Z
UID:10003298-1785229200-1785247200@accokeekvfd.org
SUMMARY:Senior Bingo
DESCRIPTION:Begin selling at 9:00 am \nGames run from 10:00 am to 2:15 pm\nEvery Tuesday. When you come to Bingo\, PLEASE Bring Your Coins with You.
URL:https://accokeekvfd.org/event/senior-bingo-2/2026-07-28/
LOCATION:Accokeek Training and Activities Center\, 16111 Livingston Road\, Accokeek\, MD\, 20607\, United States
CATEGORIES:Bingo,Senior
ATTACH;FMTTYPE=image/jpeg:https://accokeekvfd.org/wp-content/uploads/2022/06/AccokeekVFD_Bingo_FeatureImage-1024x768-1.jpg
ORGANIZER;CN="Accokeek Volunteer Fire Department":MAILTO:accokeekvfd@gmail.com
END:VEVENT
END:VCALENDAR